BEGIN:VCALENDAR
VERSION:2.0
PRODID:-//Aemifesa - ECPv6.6.3//NONSGML v1.0//EN
CALSCALE:GREGORIAN
METHOD:PUBLISH
X-WR-CALNAME:Aemifesa
X-ORIGINAL-URL:https://aemifesa.cat
X-WR-CALDESC:Esdeveniments per Aemifesa
REFRESH-INTERVAL;VALUE=DURATION:PT1H
X-Robots-Tag:noindex
X-PUBLISHED-TTL:PT1H
BEGIN:VTIMEZONE
TZID:UTC
BEGIN:STANDARD
TZOFFSETFROM:+0000
TZOFFSETTO:+0000
TZNAME:UTC
DTSTART:20240101T000000
END:STANDARD
END:VTIMEZONE
BEGIN:VEVENT
DTSTART;TZID=UTC:20240403T170000
DTEND;TZID=UTC:20240529T210000
DTSTAMP:20260419T173248
CREATED:20240527T170625Z
LAST-MODIFIED:20240906T110958Z
UID:3186-1712163600-1717016400@aemifesa.cat
SUMMARY:Iniciació en manteniment elèctric industrial
DESCRIPTION:El curs capacita als alumnes per tal que puguin desenvolupar adequadament funcions de manteniment elèctric industrial.\n– Conèixer el funcionament dels diferents circuits elèctrics a la indústria.\n– Diagnosticar i reparar avaries elèctriques d’urgència en màquines.\n– Aplicar el tipus de manteniment adequat a la reparació.\n– Saber interpretar la informació tècnica i els diferents tipus d´esquemes.\n– Conèixer i aplicar el Reglament Electrotècnic corresponent. \nPrograma \n1. Conceptes bàsics d’electricitat (20 hores)\n1.1. Electricitat\, magnetisme i magnituds elèctriques.\n1.2. Circuit elèctric. Tipus d’esquemes\, simbologia i anàlisi d’un circuit\n1.3. Tipus de corrent CC\, CA\n1.4. La llei d’OHM\n1.5. Potència elèctrica\, energia elèctrica\, efecte Joule\n2. Components de la instal·lació (19 hores)\n2.1. Elecció dels elements d’una instal·lació elèctrica industrial\n2.2. Conductors\, tipus de material elèctric industrial. Aplicació a circuits\n2.3. Elements del quadre de comandament i elements de protecció\n2.4. Elements d’accionament varis. Instal·lació de circuits amb contactors\n3. Muntatge de la instal·lació (20 hores)\n3.1. Connexió de diferents elements en sèries i paral·lel\n3.2. Càlcul de circuits teòrics amb la llei d’OHM. Aplicació a circuits pràctics.\n3.3. Analitzar els efectes del corrent en circuits varis\n3.4. Muntatge del quadre de distribució\n3.5. Disseny de circuits elèctrics d’il·luminació i maniobres elèctriques industrials\n3.6. Circuits amb relés i contactors.\n3.7. Reglament electrotècnic de baixa tensió. \nContinguts en matèria de sostenibilitat ambiental (temporalitzat):\nParàmetres d’eficiència energètica en una instal·lació elèctrica (1 hora) \n  \nSol·licita informació a: formació@aemifesa.org\n933 846 075
URL:https://aemifesa.cat/curs/iniciacio-en-manteniment-electric-industrial-2/
LOCATION:Edifici CATT Gremi\, Av Comunitat Europea\, 34\, Badalona\, Catalunya\, 08917
CATEGORIES:Instal·lacions electricitat
ATTACH;FMTTYPE=image/jpeg:https://aemifesa.cat/wp-content/uploads/2024/05/instalacions-electricitat.jpg
ORGANIZER;CN="Aemifesa Formaci%C3%B3":MAILTO:info@aemifesa.org
END:VEVENT
BEGIN:VEVENT
DTSTART;TZID=UTC:20240527T000000
DTEND;TZID=UTC:20240527T000000
DTSTAMP:20260419T173248
CREATED:20240527T161404Z
LAST-MODIFIED:20240906T110208Z
UID:3161-1716768000-1716768000@aemifesa.cat
SUMMARY:(ELEE0109) Muntatge i manteniment d’instal·lacions elèctriques de baixa tensió. Nivell 2.
DESCRIPTION:La formació\, com a Certificat Professional\, exposa com muntar\, mantenir i reparar les instal·lacions elèctriques per a baixa tensió compreses a l’àmbit del Reglament Electrotècnic per a baixa tensió\, aplicant les tècniques i els procediments requerits en cada cas\, aconseguint els criteris de qualitat\, en condicions de seguretat i complint la normativa vigent. \nPrograma \nMF0820_2: Instal·lacions elèctriques en edificis d’habitatges.\nUF0884: Muntatge d’instal·lacions elèctriques d’enllaç a edificis\nUF0885: Muntatge i manteniment d’instal·lacions elèctriques de baixa tensió a edificis d’habitatges\nUF0886: Prevenció de riscos laborals i mediambientals en el muntatge i manteniment d’instal·lacions elèctriques\nMF0821_2: Instal·lacions elèctriques en edificis d’oficines\, comerços i indústries.\nUF0884: Muntatge d’instal·lacions elèctriques d’enllaç a edificis.\nUF0887: Muntatge i manteniment d’instal·lacions elèctriques d’interior.\nUF0888: Elaboració de la documentació tècnica segons el REBT per a la instal·lació de locals\, comerços i petites indústries\nUF0886: Prevenció de riscos laborals i mediambientals en el muntatge i manteniment d’instal·lacions elèctriques\nMF0822_2: Instal·lacions elèctriques automatitzades i instal·lacions d’automatismes.\nUF0889: Muntatge i reparació d’automatismes elèctrics\nUF0890: Muntatge d’instal·lacions automatitzades.\nUF0891: Reparació d’instal·lacions automatitzades.\nUF0886: Prevenció de riscos laborals i mediambientals en el muntatge i manteniment d’instal·lacions elèctriques\nMF0823_2: Muntatge i manteniment de xarxes elèctriques aèries de baixa tensió\nUF0892: Muntatge de xarxes elèctriques aèries de baixa tensió.\nUF0893: Manteniment de xarxes elèctriques aèries de baixa tensió.\nUF0886: Prevenció de riscos laborals i mediambientals en el muntatge i manteniment d’instal·lacions elèctriques\nMF0824_2: Muntatge i manteniment de xarxes elèctriques subterrànies de baixa tensió.\nUF0894: Muntatge de xarxes elèctriques subterrànies de baixa tensió.\nUF0895: Manteniment xarxes elèctriques subterrànies de baixa tensió.\nUF0886: Prevenció de riscos laborals i mediambientals en el muntatge i manteniment d’instal·lacions elèctriques\nMF0825_2: Muntatge i manteniment de màquines elèctriques.\nUF0896: Muntatge i manteniment de transformadors.\nUF0897: Muntatge i manteniment de màquines elèctriques rotatives.\nUF0886: Prevenció de riscos laborals i mediambientals en el muntatge i manteniment d’instal·lacions elèctriques\nMP0183: Mòdul de pràctiques professionals no laborals” \n  \nSol·licita informació a: formació@aemifesa.org\n933 846 075
URL:https://aemifesa.cat/curs/elee0109-muntatge-i-manteniment-dinstallacions-electriques-de-baixa-tensio-nivell-2/
LOCATION:Catalunya
CATEGORIES:Instal·lacions electricitat
ATTACH;FMTTYPE=image/jpeg:https://aemifesa.cat/wp-content/uploads/2024/05/instalacions-electricitat.jpg
END:VEVENT
BEGIN:VEVENT
DTSTART;TZID=UTC:20240527T170000
DTEND;TZID=UTC:20240529T210000
DTSTAMP:20260419T173248
CREATED:20240527T172805Z
LAST-MODIFIED:20240906T110104Z
UID:3206-1716829200-1717016400@aemifesa.cat
SUMMARY:Disseny d'il·luminació amb Dialux
DESCRIPTION:Aquest curs transmet el coneixement necessari per tal d’emprar el programa Dialux per al disseny de la il·luminació a exteriors i a interiors. \nPrograma \nConeixements/ Capacitats cognitives i pràctiques\n• Descripció de la Interfície d’usuari de Dialux evo\n◦ Ajustaments bàsics\n◦ Planificació senzilla d’un espai interior\n• Definició i creació d’espais a partir d’un esbós\n◦ Importació d’un fitxer d’imatge (JPEG) per dissenyar un edifici\n◦ Importació de plànols CAD (DWG\, DXF)\n◦ Inserció de finestres i portes\n◦ Creació de falsos sostres i teulades\n• Importació d’un altre pla CAD\n◦ Creació d’una escena exterior\n◦ Inserció de mobles i objectes\n◦ Ús de colors i textures\n• Ús de catàlegs de lluminàries\n◦ Inserció i disposició de les lluminàries\n◦ Càlcul i resum de resultats\n◦ Falsa representació del color\n◦ Fonaments de la configuració de la sortida\nHabilitats de gestió\, personals i socials\n• Interès pel disseny de la il·luminació en exteriors i interiors\n• Actitud positiva davant d’un projecte d’il·luminació \n  \nSol·licita informació a: formació@aemifesa.org\n933 846 075
URL:https://aemifesa.cat/curs/disseny-dilluminacio-amb-dialux/
LOCATION:Edifici CATT Gremi\, Av Comunitat Europea\, 34\, Badalona\, Catalunya\, 08917
CATEGORIES:Instal·lacions electricitat
ATTACH;FMTTYPE=image/jpeg:https://aemifesa.cat/wp-content/uploads/2024/05/instalacions-electricitat.jpg
ORGANIZER;CN="Aemifesa Formaci%C3%B3":MAILTO:info@aemifesa.org
END:VEVENT
BEGIN:VEVENT
DTSTART;TZID=UTC:20240528T170000
DTEND;TZID=UTC:20240704T210000
DTSTAMP:20260419T173248
CREATED:20240527T173128Z
LAST-MODIFIED:20240906T105957Z
UID:3208-1716915600-1720126800@aemifesa.cat
SUMMARY:Infraestructures de recàrrega per a vehicle elèctric
DESCRIPTION:Aquest curs permet formar a instal·ladors elèctrics de baixa tensió\, el muntatge i manteniment d’infraestructures de vehicle en aparcaments domèstics en comunitats de propietaris\, en aparcaments d’accés publico i privat i punts de recàrrega en via pública.\nRealitzar escomeses i instal·lacions d’enllaç de baixa tensió en infraestructures de recàrrega de vehicle elèctric\, amb les condicions de qualitat i seguretat establerta\, d’acord amb la normativa vigent. Muntar\, reparar i realitzar el manteniment de les instal·lacions de vehicle elèctric amb les condicions de qualitat i seguretat establertes. Elaborar la documentació tècnica i administrativa de les infraestructures de recàrrega de vehicle elèctric. \nPrograma \n1. Introducció i evolució del vehicle elèctric (VEU) (1 hora)\na. Normativa general i directives europees.\nb. Tipus de VE disponibles en el mercat.\nc. Solucions de recàrrega de VE: lenta\, semiràpida\, ràpida i superràpida.\nd. Dades estadístiques.\n2. Evolució de la normativa relacionada amb el VEU: ITC-BT 52 i/o nova normativa (2 hores)\na. Guia Tècnica d’aplicació de la ITC-BT 52\nb. CTE document bàsic HE\, HE 6. Dotacions mínimes per a la infraestructura de recàrrega de vehicles elèctrics.\n3. Instal·lacions elèctriques de baixa tensió per IRVE (3 hores)\na. Visió de conjunt de les infraestructures de recàrrega del vehicle elèctric\n4. Visió general de la tecnologia sobre instal·lacions de recàrrega de VE. (3 hores)\na. Maneres de recàrrega.\nb. Tipus de connectors.\nc. Tipus de connexió entre l’estació de recàrrega i el vehicle elèctric.\nd. Manteniment dels punts de recàrrega.\n5. Esquemes d’instal·lació per a la recàrrega de vehicles elèctrics (4 hores)\na. Instal·lació en aparcaments d’habitatges unifamiliars.\nb. Instal·lació en aparcaments o estacionaments col·lectius en edificis en règim de propietat horitzontal.\nc. Instal·lacions de recàrrega en via pública o amb potències superiors a 7 kW: semiràpida (entre 7 i 22 kW) i / o ràpida (potències superiors a 50 kW)\n6. Previsió de càrregues segons l’esquema de la instal·lació: (4 hores)\na. Esquemes possibles segons la ITC-BT 52.\nb. Recàlcul de la potència elèctrica necessària en un edifici.\n7. Requisits generals de la instal·lació: (5 hores)\na. Alimentació.\nb. Sistemes de connexió del neutre.\nc. Canalitzacions.\nd. Envolupants del conjunt dels aparells.\ne. Punt de connexió.\nf. Comptador secundari de mesura de l’energia.\n8. Data server i instal·lació de comunicació: (4 hores)\na. Protocols de comunicació.\nb. Sistemes de gestió (scada).\nc. Back office.\nd. Sistemes de cablejats\n9. Projectes singulars (Smart cities\, V2G\, Second life Battery). (2 hores)\n10. Tramitació i legalització IRVE (4 hores)\n11. Tècniques de carregadors exteriors i quadre elèctric de recàrrega de vehicle elèctric (6 hores) \nContinguts en matèria de sostenibilitat ambiental (temporalitzat):\nDesenvolupament del vehicle elèctric: millores ambientals\, nou model energètic i millores en la salut. (1 hora)\nPlan Moves III: aspectes generals (1 hora) \n  \nSol·licita informació a: formació@aemifesa.org\n933 846 075
URL:https://aemifesa.cat/curs/infraestructures-de-recarrega-per-a-vehicle-electric-2/
LOCATION:Edifici CATT Gremi\, Av Comunitat Europea\, 34\, Badalona\, Catalunya\, 08917
CATEGORIES:Instal·lacions electricitat
ATTACH;FMTTYPE=image/jpeg:https://aemifesa.cat/wp-content/uploads/2024/05/instalacions-electricitat.jpg
ORGANIZER;CN="Aemifesa Formaci%C3%B3":MAILTO:info@aemifesa.org
END:VEVENT
END:VCALENDAR