BEGIN:VCALENDAR
VERSION:2.0
PRODID:-//Aemifesa - ECPv6.6.3//NONSGML v1.0//EN
CALSCALE:GREGORIAN
METHOD:PUBLISH
X-ORIGINAL-URL:https://aemifesa.cat
X-WR-CALDESC:Esdeveniments per Aemifesa
REFRESH-INTERVAL;VALUE=DURATION:PT1H
X-Robots-Tag:noindex
X-PUBLISHED-TTL:PT1H
BEGIN:VTIMEZONE
TZID:UTC
BEGIN:STANDARD
TZOFFSETFROM:+0000
TZOFFSETTO:+0000
TZNAME:UTC
DTSTART:20250101T000000
END:STANDARD
END:VTIMEZONE
BEGIN:VEVENT
DTSTART;TZID=UTC:20250512T160000
DTEND;TZID=UTC:20250514T210000
DTSTAMP:20260422T003610
CREATED:20250423T143401Z
LAST-MODIFIED:20250423T143401Z
UID:3570-1747065600-1747256400@aemifesa.cat
SUMMARY:Curs d'operacions menors en la prevenció i control de legionel·la
DESCRIPTION:Aprendre a realitzar una prevenció efectiva bàsica derivada de la legionel·losi (mesura de temperatura\, mesura dels nivells de biocides\, control del pH entre d’altres). Aquest curs s’ha de realitzar com a pla de formació d’acord amb el que indica el RD 487/2022 en l’apartat de formació del personal. Va dirigit al personal de manteniment d’instal·lacions d’aigua (indústria\, instal·lacions esportives\, pavellons\, piscines\, hotels\, càmpings\, residències\, clíniques\, etc.). \nSol·licita informació a: formació@aemifesa.org 933 846 075
URL:https://aemifesa.cat/curs/curs-doperacions-menors-en-la-prevencio-i-control-de-legionella-2/
LOCATION:Edifici CATT Gremi\, Av Comunitat Europea\, 34\, Badalona\, Catalunya\, 08917
CATEGORIES:Gestió ambiental
ATTACH;FMTTYPE=image/jpeg:https://aemifesa.cat/wp-content/uploads/2025/01/Foto-Legionella.jpg
ORGANIZER;CN="Aemifesa Formaci%C3%B3":MAILTO:info@aemifesa.org
END:VEVENT
END:VCALENDAR