BEGIN:VCALENDAR
VERSION:2.0
PRODID:-//Aemifesa - ECPv6.6.3//NONSGML v1.0//EN
CALSCALE:GREGORIAN
METHOD:PUBLISH
X-WR-CALNAME:Aemifesa
X-ORIGINAL-URL:https://aemifesa.cat
X-WR-CALDESC:Esdeveniments per Aemifesa
REFRESH-INTERVAL;VALUE=DURATION:PT1H
X-Robots-Tag:noindex
X-PUBLISHED-TTL:PT1H
BEGIN:VTIMEZONE
TZID:UTC
BEGIN:STANDARD
TZOFFSETFROM:+0000
TZOFFSETTO:+0000
TZNAME:UTC
DTSTART:20250101T000000
END:STANDARD
END:VTIMEZONE
BEGIN:VEVENT
DTSTART;TZID=UTC:20250303T160000
DTEND;TZID=UTC:20250305T210000
DTSTAMP:20260422T021723
CREATED:20250129T150558Z
LAST-MODIFIED:20250212T094609Z
UID:3559-1741017600-1741208400@aemifesa.cat
SUMMARY:Curs d'operacions menors en la prevenció i control de legionel·la
DESCRIPTION:Aprendre a realitzar una prevenció efectiva bàsica derivada de la legionel·losi (mesura de temperatura\, mesura dels nivells de biocides\, control del pH entre d’altres). Aquest curs s’ha de realitzar com a pla de formació d’acord amb el que indica el RD 487/2022 en l’apartat de formació del personal. Va dirigit al personal de manteniment d’instal·lacions d’aigua (indústria\, instal·lacions esportives\, pavellons\, piscines\, hotels\, càmpings\, residències\, clíniques\, etc.). \nSol·licita informació a: formació@aemifesa.org 933 846 075
URL:https://aemifesa.cat/curs/curs-doperacions-menors-en-la-prevencio-i-control-de-legionella/
LOCATION:Edifici CATT Gremi\, Av Comunitat Europea\, 34\, Badalona\, Catalunya\, 08917
CATEGORIES:Gestió ambiental
ATTACH;FMTTYPE=image/jpeg:https://aemifesa.cat/wp-content/uploads/2025/01/Foto-Legionella.jpg
ORGANIZER;CN="Aemifesa Formaci%C3%B3":MAILTO:info@aemifesa.org
END:VEVENT
BEGIN:VEVENT
DTSTART;TZID=UTC:20250310T153000
DTEND;TZID=UTC:20250312T203000
DTSTAMP:20260422T021723
CREATED:20250129T151247Z
LAST-MODIFIED:20250129T151247Z
UID:3562-1741620600-1741811400@aemifesa.cat
SUMMARY:Curs de renovació del certificat de legionel·la
DESCRIPTION:Aquesta formació l’ha de fer el personal que tingui vinculació al manteniment d’instal·lacions d’aigua.  Ha de fer la renovació el personal tècnic que tingui el Certificat d’abans del 2019. També és important recordar que el curs renovació va adreçat a aquells tècnics que vulguin assolir la certificació professional i vulguin completar els cicles de renovació del curs homologat de 25 hores\, amb l’actualització i el coneixement dels nous continguts i novetats\, d’acord amb el RD 487/2022 i el RD 614/2024. \nSol·licita informació a: formació@aemifesa.org 933 846 075
URL:https://aemifesa.cat/curs/curs-de-renovacio-del-certificat-de-legionella/
LOCATION:Edifici CATT Gremi\, Av Comunitat Europea\, 34\, Badalona\, Catalunya\, 08917
CATEGORIES:Gestió ambiental
ATTACH;FMTTYPE=image/jpeg:https://aemifesa.cat/wp-content/uploads/2025/01/Foto-Legionella.jpg
ORGANIZER;CN="Aemifesa Formaci%C3%B3":MAILTO:info@aemifesa.org
END:VEVENT
END:VCALENDAR