BEGIN:VCALENDAR
VERSION:2.0
PRODID:-//Aemifesa - ECPv6.6.3//NONSGML v1.0//EN
CALSCALE:GREGORIAN
METHOD:PUBLISH
X-ORIGINAL-URL:https://aemifesa.cat
X-WR-CALDESC:Esdeveniments per Aemifesa
REFRESH-INTERVAL;VALUE=DURATION:PT1H
X-Robots-Tag:noindex
X-PUBLISHED-TTL:PT1H
BEGIN:VTIMEZONE
TZID:UTC
BEGIN:STANDARD
TZOFFSETFROM:+0000
TZOFFSETTO:+0000
TZNAME:UTC
DTSTART:20250101T000000
END:STANDARD
END:VTIMEZONE
BEGIN:VEVENT
DTSTART;TZID=UTC:20251203T080000
DTEND;TZID=UTC:20251204T170000
DTSTAMP:20260421T105732
CREATED:20250108T093309Z
LAST-MODIFIED:20251001T135826Z
UID:3494-1764748800-1764867600@aemifesa.cat
SUMMARY:Butlletins derivats d'una instal·lació
DESCRIPTION:Descriure els coneixements bàsics per emplenar documents derivats d’una instal·lació i els processos administratius. \nPROGRAMA \n\nExplicació dels processos i eines\n◦ Models de butlletins\n◦ Tipus d’instal·lacions\n◦ Eines per a l’emplenat de formularis\n◦ Realització de memòries tècniques\n◦ Procediments administratius\n\n  \nSol·licita informació a: formació@aemifesa.org\n933 846 075
URL:https://aemifesa.cat/curs/butlletins-derivats-duna-installacio/
LOCATION:Edifici CATT Gremi\, Av Comunitat Europea\, 34\, Badalona\, Catalunya\, 08917
CATEGORIES:Altres
ATTACH;FMTTYPE=image/avif:https://aemifesa.cat/wp-content/uploads/2025/01/CursDeBulletins.avif
ORGANIZER;CN="Aemifesa Formaci%C3%B3":MAILTO:info@aemifesa.org
END:VEVENT
END:VCALENDAR